BEGIN:VCALENDAR
PRODID:http://wibix.de/infusions/pro_download_panel/download.php?did=27
VERSION:2.0
METHOD:PUBLISH
BEGIN:VEVENT
DTSTART:20150218T160000Z
DTEND:20150218T200000Z
UID:32@http://www.flusi-eddn.de/
DTSTAMP:20150122T083419Z
DESCRIPTION:[b]Beginn: 18:00 Uhr[/b]\nGaststätte Grüne Au\nzum Brez&#39;nwirt\n \n[b]Lokal[/b]\n \nZiegelsteinstr. 195\n 90411 Nürnberg, Germany\n +49 911 522020\n\n \nInformationsaustausch
SUMMARY:Flugsimulator-Treff
LOCATION:Gaststätte Grüne Au, zum Brez&#39;nwirt, Nürnberg
CLASS:PUBLIC
END:VEVENT
END:VCALENDAR
